BEGIN:VCALENDAR
VERSION:2.0
PRODID:-//Clear 99 - ECPv6.15.20//NONSGML v1.0//EN
CALSCALE:GREGORIAN
METHOD:PUBLISH
X-ORIGINAL-URL:https://clear99.com
X-WR-CALDESC:Events for Clear 99
REFRESH-INTERVAL;VALUE=DURATION:PT1H
X-Robots-Tag:noindex
X-PUBLISHED-TTL:PT1H
BEGIN:VTIMEZONE
TZID:America/Chicago
BEGIN:DAYLIGHT
TZOFFSETFROM:-0600
TZOFFSETTO:-0500
TZNAME:CDT
DTSTART:20250309T080000
END:DAYLIGHT
BEGIN:STANDARD
TZOFFSETFROM:-0500
TZOFFSETTO:-0600
TZNAME:CST
DTSTART:20251102T070000
END:STANDARD
BEGIN:DAYLIGHT
TZOFFSETFROM:-0600
TZOFFSETTO:-0500
TZNAME:CDT
DTSTART:20260308T080000
END:DAYLIGHT
BEGIN:STANDARD
TZOFFSETFROM:-0500
TZOFFSETTO:-0600
TZNAME:CST
DTSTART:20261101T070000
END:STANDARD
BEGIN:DAYLIGHT
TZOFFSETFROM:-0600
TZOFFSETTO:-0500
TZNAME:CDT
DTSTART:20270314T080000
END:DAYLIGHT
BEGIN:STANDARD
TZOFFSETFROM:-0500
TZOFFSETTO:-0600
TZNAME:CST
DTSTART:20271107T070000
END:STANDARD
END:VTIMEZONE
BEGIN:VEVENT
DTSTART;TZID=America/Chicago:20260425T190000
DTEND;TZID=America/Chicago:20260425T230000
DTSTAMP:20260420T033622
CREATED:20260413T153310Z
LAST-MODIFIED:20260413T164720Z
UID:150264-1777143600-1777158000@clear99.com
SUMMARY:Jon Langston | The Blue Note | 4.25.2026
DESCRIPTION:It’s time to discover some new country music at The Blue Note! \n\n\n\nJon Langston is coming to Columbia on April 25th and tickets are available now! \n\n\n\nYou can also win them by downloading the Clear 99 app and entering the Jon Langston contest. Five winners will be announced on Friday\, April 17th.
URL:https://clear99.com/event/jon-langston-the-blue-note-4-26-2026/
LOCATION:The Blue Note\, 17 N. 9th St.\, Columbia\, MO\, 65201\, United States
CATEGORIES:Concerts
ATTACH;FMTTYPE=image/jpeg:https://clear99.com/wp-content/uploads/sites/4/2026/04/jonlangston-tbn-web.jpg
END:VEVENT
END:VCALENDAR